{
 "version": 1.0,
 "tileBundlesPath": "./tile",
 "storageInfo": {
  "packetSize": 128,
  "storageFormat": "esriMapCacheStorageModeCompactV2"
 },
 "tileImageInfo": {
  "format": "PNG",
  "compressionQuality": 0,
  "bandCount": 1,
  "lercError": 0
 },
 "tileInfo": {
  "spatialReference": {
   "wkid": 28992,
   "latestWkid": 28992
  },
  "origin": {
   "x": -285401.92,
   "y": 903401.92
  },
  "rows": 512,
  "cols": 512,
  "dpi": 96,
  "lods": [
   {
    "level": 0,
    "resolution": 1625.6032512065026,
    "scale": 6144000
   },
   {
    "level": 1,
    "resolution": 812.8016256032513,
    "scale": 3072000
   },
   {
    "level": 2,
    "resolution": 406.40081280162565,
    "scale": 1536000
   },
   {
    "level": 3,
    "resolution": 203.20040640081282,
    "scale": 768000
   },
   {
    "level": 4,
    "resolution": 101.60020320040641,
    "scale": 384000
   },
   {
    "level": 5,
    "resolution": 50.800101600203206,
    "scale": 192000
   },
   {
    "level": 6,
    "resolution": 25.400050800101603,
    "scale": 96000
   },
   {
    "level": 7,
    "resolution": 12.700025400050801,
    "scale": 48000
   },
   {
    "level": 8,
    "resolution": 6.350012700025401,
    "scale": 24000
   },
   {
    "level": 9,
    "resolution": 3.1750063500127004,
    "scale": 12000
   },
   {
    "level": 10,
    "resolution": 1.5875031750063502,
    "scale": 6000
   },
   {
    "level": 11,
    "resolution": 0.7937515875031751,
    "scale": 3000
   },
   {
    "level": 12,
    "resolution": 0.39687579375158755,
    "scale": 1500
   },
   {
    "level": 13,
    "resolution": 0.19843789687579377,
    "scale": 750
   },
   {
    "level": 14,
    "resolution": 0.09921894843789689,
    "scale": 375
   },
   {
    "level": 15,
    "resolution": 0.04960947421894844,
    "scale": 187.5
   },
   {
    "level": 16,
    "resolution": 0.02480473710947422,
    "scale": 93.75
   },
   {
    "level": 17,
    "resolution": 0.01240236855473711,
    "scale": 46.875
   },
   {
    "level": 18,
    "resolution": 0.006201184277368555,
    "scale": 23.4375
   },
   {
    "level": 19,
    "resolution": 0.0031005921386842777,
    "scale": 11.71875
   },
   {
    "level": 20,
    "resolution": 0.0015502960693421389,
    "scale": 5.859375
   },
   {
    "level": 21,
    "resolution": 7.751480346710694E-4,
    "scale": 2.9296875
   },
   {
    "level": 22,
    "resolution": 3.875740173355347E-4,
    "scale": 1.46484375
   }
  ],
  "format": "PNG",
  "compressionQuality": 0,
  "bandCount": 1,
  "lercError": 0,
  "storageFormat": "esriMapCacheStorageModeCompactV2",
  "packetSize": 128
 },
 "name": "Belemmeringen_Wind120_hard_Fysieke_belemmeringen",
 "serviceDescription": "",
 "spatialReference": {
  "wkid": 28992,
  "latestWkid": 28992,
  "xyTolerance": 0.001,
  "zTolerance": 0.001,
  "mTolerance": 0.001,
  "falseX": -30515500,
  "falseY": -30279500,
  "xyUnits": 10000,
  "falseZ": -100000,
  "zUnits": 10000,
  "falseM": -100000,
  "mUnits": 10000
 },
 "units": "esriMeters",
 "minLOD": 1,
 "maxLOD": 6,
 "resampling": true,
 "layers": [
  {
   "id": 0,
   "name": "Belemmeringen_Wind120_hard_Fysieke_belemmeringen",
   "parentLayerId": -1,
   "defaultVisibility": true,
   "subLayerIds": [
    1,
    2,
    3,
    4,
    5
   ],
   "minScale": 0,
   "maxScale": 0,
   "type": "Group Layer",
   "supportsDynamicLegends": false,
   "layerId": 0,
   "layerName": "Belemmeringen_Wind120_hard_Fysieke_belemmeringen",
   "serviceItemId": "e6fee14b64c0480f8ece858ba16287dd"
  },
  {
   "id": 1,
   "name": "Spoorlijn",
   "parentLayerId": 0,
   "defaultVisibility": true,
   "subLayerIds": null,
   "minScale": 0,
   "maxScale": 50000,
   "type": "Feature Layer",
   "geometryType": "esriGeometryPolygon",
   "supportsDynamicLegends": true,
   "legend": [
    {
     "label": "",
     "imageData": "iVBORw0KGgoAAAANSUhEUgAAABQAAAAUCAYAAACNiR0NAAAACXBIWXMAAA7EAAAOxAGVKw4bAAAAIklEQVQ4jWN5NoPhPwMVAQs1DRs1cNTAUQNHDRw1cCgZCADJ/gLO09GXMQAAAABJRU5ErkJggg==",
     "contentType": "image/png",
     "groupId": "0",
     "height": 20,
     "width": 20,
     "layerId": 1,
     "layerName": "Spoorlijn"
    }
   ],
   "layerId": 1,
   "layerName": "Spoorlijn",
   "serviceItemId": "e6fee14b64c0480f8ece858ba16287dd"
  },
  {
   "id": 2,
   "name": "Wegen",
   "parentLayerId": 0,
   "defaultVisibility": true,
   "subLayerIds": null,
   "minScale": 0,
   "maxScale": 50000,
   "type": "Feature Layer",
   "geometryType": "esriGeometryPolygon",
   "supportsDynamicLegends": true,
   "legend": [
    {
     "label": "",
     "imageData": "iVBORw0KGgoAAAANSUhEUgAAABQAAAAUCAYAAACNiR0NAAAACXBIWXMAAA7EAAAOxAGVKw4bAAAALUlEQVQ4jWNpamr6z0AlUFdXx8hCLcNgYNTAUQNHDRw1cNRAWhlYV1fHSE0DAVwRBczNyGqfAAAAAElFTkSuQmCC",
     "contentType": "image/png",
     "groupId": "0",
     "height": 20,
     "width": 20,
     "layerId": 2,
     "layerName": "Wegen"
    }
   ],
   "layerId": 2,
   "layerName": "Wegen",
   "serviceItemId": "e6fee14b64c0480f8ece858ba16287dd"
  },
  {
   "id": 3,
   "name": "Regionale wegen",
   "parentLayerId": 0,
   "defaultVisibility": true,
   "subLayerIds": null,
   "minScale": 0,
   "maxScale": 50000,
   "type": "Feature Layer",
   "geometryType": "esriGeometryPolygon",
   "supportsDynamicLegends": true,
   "legend": [
    {
     "label": "",
     "imageData": "iVBORw0KGgoAAAANSUhEUgAAABQAAAAUCAYAAACNiR0NAAAACXBIWXMAAA7EAAAOxAGVKw4bAAAALUlEQVQ4jWNpamr6z0AlUFdXx8hCLcNgYNTAUQNHDRw1cNRAWhlYV1fHSE0DAVwRBczNyGqfAAAAAElFTkSuQmCC",
     "contentType": "image/png",
     "groupId": "0",
     "height": 20,
     "width": 20,
     "layerId": 3,
     "layerName": "Regionale wegen"
    }
   ],
   "layerId": 3,
   "layerName": "Regionale wegen",
   "serviceItemId": "e6fee14b64c0480f8ece858ba16287dd"
  },
  {
   "id": 4,
   "name": "Monumenten",
   "parentLayerId": 0,
   "defaultVisibility": true,
   "subLayerIds": null,
   "minScale": 0,
   "maxScale": 50000,
   "type": "Feature Layer",
   "geometryType": "esriGeometryPolygon",
   "supportsDynamicLegends": true,
   "legend": [
    {
     "label": "",
     "imageData": "iVBORw0KGgoAAAANSUhEUgAAABQAAAAUCAYAAACNiR0NAAAACXBIWXMAAA7EAAAOxAGVKw4bAAAAIklEQVQ4jWNZwdDyn4GKgIWaho0aOGrgqIGjBo4aOJQMBADC2gJ8v4P2JAAAAABJRU5ErkJggg==",
     "contentType": "image/png",
     "groupId": "0",
     "height": 20,
     "width": 20,
     "layerId": 4,
     "layerName": "Monumenten"
    }
   ],
   "layerId": 4,
   "layerName": "Monumenten",
   "serviceItemId": "e6fee14b64c0480f8ece858ba16287dd"
  },
  {
   "id": 5,
   "name": "Hoofdwateren",
   "parentLayerId": 0,
   "defaultVisibility": true,
   "subLayerIds": null,
   "minScale": 0,
   "maxScale": 50000,
   "type": "Feature Layer",
   "geometryType": "esriGeometryPolygon",
   "supportsDynamicLegends": true,
   "legend": [
    {
     "label": "",
     "imageData": "iVBORw0KGgoAAAANSUhEUgAAABQAAAAUCAYAAACNiR0NAAAACXBIWXMAAA7EAAAOxAGVKw4bAAAALklEQVQ4jWOp2vb1PwOVQJsXNyMLtQyDgVEDRw0cNXDUwFEDaWVgmxc3IzUNBABarwUtiBzI6QAAAABJRU5ErkJggg==",
     "contentType": "image/png",
     "groupId": "0",
     "height": 20,
     "width": 20,
     "layerId": 5,
     "layerName": "Hoofdwateren"
    }
   ],
   "layerId": 5,
   "layerName": "Hoofdwateren",
   "serviceItemId": "e6fee14b64c0480f8ece858ba16287dd"
  }
 ],
 "initialExtent": {
  "xmin": 120615.3574000001,
  "ymin": 411704.0150000006,
  "xmax": 254313.99219999835,
  "ymax": 506513.2100000009,
  "spatialReference": {
   "wkid": 28992,
   "latestWkid": 28992,
   "xyTolerance": 0.001,
   "zTolerance": 0.001,
   "mTolerance": 0.001,
   "falseX": -30515500,
   "falseY": -30279500,
   "xyUnits": 10000,
   "falseZ": -100000,
   "zUnits": 10000,
   "falseM": -100000,
   "mUnits": 10000
  }
 },
 "fullExtent": {
  "xmin": 120615.3574000001,
  "ymin": 411704.0150000006,
  "xmax": 254313.99219999835,
  "ymax": 506513.2100000009,
  "spatialReference": {
   "wkid": 28992,
   "latestWkid": 28992,
   "xyTolerance": 0.001,
   "zTolerance": 0.001,
   "mTolerance": 0.001,
   "falseX": -30515500,
   "falseY": -30279500,
   "xyUnits": 10000,
   "falseZ": -100000,
   "zUnits": 10000,
   "falseM": -100000,
   "mUnits": 10000
  }
 },
 "minScale": 0,
 "maxScale": 50000,
 "exportTilesAllowed": false,
 "maxExportTilesCount": 0,
 "currentVersion": 11.3,
 "mapName": "Belemmeringen_Wind120_hard_Fysieke_belemmeringen",
 "singleFusedMapCache": true,
 "type": "MapServer",
 "supportedExtensions": "",
 "capabilities": "TilesOnly,Tilemap",
 "serviceItemId": "e6fee14b64c0480f8ece858ba16287dd"
}
